BEGIN:VCALENDAR
VERSION:2.0
PRODID:-//SUCI Home - ECPv6.15.20//NONSGML v1.0//EN
CALSCALE:GREGORIAN
METHOD:PUBLISH
X-ORIGINAL-URL:https://suci2.ca
X-WR-CALDESC:Events for SUCI Home
REFRESH-INTERVAL;VALUE=DURATION:PT1H
X-Robots-Tag:noindex
X-PUBLISHED-TTL:PT1H
BEGIN:VTIMEZONE
TZID:America/Toronto
BEGIN:DAYLIGHT
TZOFFSETFROM:-0500
TZOFFSETTO:-0400
TZNAME:EDT
DTSTART:20250309T070000
END:DAYLIGHT
BEGIN:STANDARD
TZOFFSETFROM:-0400
TZOFFSETTO:-0500
TZNAME:EST
DTSTART:20251102T060000
END:STANDARD
BEGIN:DAYLIGHT
TZOFFSETFROM:-0500
TZOFFSETTO:-0400
TZNAME:EDT
DTSTART:20260308T070000
END:DAYLIGHT
BEGIN:STANDARD
TZOFFSETFROM:-0400
TZOFFSETTO:-0500
TZNAME:EST
DTSTART:20261101T060000
END:STANDARD
BEGIN:DAYLIGHT
TZOFFSETFROM:-0500
TZOFFSETTO:-0400
TZNAME:EDT
DTSTART:20270314T070000
END:DAYLIGHT
BEGIN:STANDARD
TZOFFSETFROM:-0400
TZOFFSETTO:-0500
TZNAME:EST
DTSTART:20271107T060000
END:STANDARD
END:VTIMEZONE
BEGIN:VEVENT
DTSTART;TZID=America/Toronto:20260610T193000
DTEND;TZID=America/Toronto:20260610T213000
DTSTAMP:20260422T182551
CREATED:20260414T002237Z
LAST-MODIFIED:20260416T042155Z
UID:10000297-1781119800-1781127000@suci2.ca
SUMMARY:PADI EFR and O2 Provider
DESCRIPTION:PADI EFR for refreshers and first timers.\nPADI O2 provider Specialty course\nDetails in link below\nSUCI EFR + O2 Courses 2026
URL:https://suci2.ca/event/padi-efr-and-o2-provider/
LOCATION:Toronto Pan Am Sports Centre\, 875 Morningside Ave\, Scarborough\, ON M1C 0C7\, Canada\, Scarborough\, Ontario\, M1C 0C7\, Canada
CATEGORIES:Training
ORGANIZER;CN="Helen Bertolini-Saari":MAILTO:training@suci2.ca
GEO:43.7905265;-79.1938245
X-APPLE-STRUCTURED-LOCATION;VALUE=URI;X-ADDRESS=Toronto Pan Am Sports Centre 875 Morningside Ave Scarborough ON M1C 0C7 Canada Scarborough Ontario M1C 0C7 Canada;X-APPLE-RADIUS=500;X-TITLE=875 Morningside Ave\, Scarborough\, ON M1C 0C7\, Canada:geo:-79.1938245,43.7905265
END:VEVENT
END:VCALENDAR